BEGIN:VCALENDAR
VERSION:2.0
PRODID:SchoolNow
CALSCALE:GREGORIAN
BEGIN:VEVENT
UID:c4a03f7e-1e4d-11ed-9401-0215cc144857
DTSTAMP:20230707T130428Z
SUMMARY:CDD Board Meeting - Jul. 2023
LOCATION:Seven Oaks Clubhouse\, located at 2910 Sports Core Circle\, Wesley
  Chapel\, FL 33544
URL;VALUE=URI:https://www.sevenoakscdd.com/calendar/3284994/cdd-board-meeti
 ng-jul-2023
DTSTART:20230712T223000Z
DTEND:20230712T233000Z
ATTACH;FILENAME=2023-07-12 - Seven Oaks CDD - Final Agenda.pdf;FMTTYPE=appl
 ication/pdf:https://campussuite-storage.s3.amazonaws.com/prod/1559071/6f0d
 3d4e-acdb-11eb-8f44-0ab597d206b1/2626929/52db0218-1b34-11ee-afde-02aacb1b1
 b65/file/2023-07-12 - Seven Oaks CDD - Final Agenda.pdf
END:VEVENT
END:VCALENDAR
