BEGIN:VCALENDAR
VERSION:2.0
PRODID:SchoolNow
CALSCALE:GREGORIAN
BEGIN:VEVENT
UID:d3574062-1e4d-11ed-91a6-0215cc144857
DTSTAMP:20230809T203821Z
SUMMARY:CDD Board Meeting - Aug. 2023
LOCATION:Seven Oaks Clubhouse\, located at 2910 Sports Core Circle\, Wesley
  Chapel\, FL 33544
URL;VALUE=URI:https://www.sevenoakscdd.com/calendar/3284995/cdd-board-meeti
 ng-aug-2023
DTSTART:20230816T190000Z
DTEND:20230816T210000Z
ATTACH;FILENAME=2023-08-16 - Seven Oaks CDD - Final Agenda.pdf;FMTTYPE=appl
 ication/pdf:https://campussuite-storage.s3.amazonaws.com/prod/1559071/6f0d
 3d4e-acdb-11eb-8f44-0ab597d206b1/2640282/a8eb9c68-36f4-11ee-90eb-0e17c5e34
 e87/file/2023-08-16 - Seven Oaks CDD - Final Agenda.pdf
END:VEVENT
END:VCALENDAR
