BEGIN:VCALENDAR
VERSION:2.0
PRODID:SchoolNow
CALSCALE:GREGORIAN
BEGIN:VEVENT
UID:e6741a12-1e4d-11ed-8cfa-0215cc144857
DTSTAMP:20230905T141610Z
SUMMARY:CDD Board Meeting - Sept. 2023
LOCATION:Seven Oaks Clubhouse\, located at 2910 Sports Core Circle\, Wesley
  Chapel\, FL 33544
URL;VALUE=URI:https://www.sevenoakscdd.com/calendar/3284996/cdd-board-meeti
 ng-sept-2023
DTSTART:20230913T223000Z
DTEND:20230913T233000Z
ATTACH;FILENAME=2023-09-13 Seven Oaks CDD - Final Agenda.pdf;FMTTYPE=applic
 ation/pdf:https://campussuite-storage.s3.amazonaws.com/prod/1559071/6f0d3d
 4e-acdb-11eb-8f44-0ab597d206b1/2654045/bed53b58-4bf6-11ee-976c-0a58a9feac0
 2/file/2023-09-13 Seven Oaks CDD - Final Agenda.pdf
END:VEVENT
END:VCALENDAR
