BEGIN:VCALENDAR
VERSION:2.0
PRODID:SchoolNow
CALSCALE:GREGORIAN
BEGIN:VEVENT
UID:ad50be86-0fbd-11ee-a470-0e399338071b
DTSTAMP:20230620T225622Z
SUMMARY:Bunco\, 2nd Tuesday of the month
LOCATION:Gathering Room
URL;VALUE=URI:https://www.sevenoakscdd.com/calendar/4414973/bunco-2nd-tuesd
 ay-of-the-month
DTSTART:20230711T230000Z
DTEND:20230712T000000Z
END:VEVENT
END:VCALENDAR
