BEGIN:VCALENDAR
VERSION:2.0
PRODID:SchoolNow
CALSCALE:GREGORIAN
BEGIN:VEVENT
UID:d1d33e7a-45a8-11ee-8aab-0a58a9feac02
DTSTAMP:20240605T204038Z
SUMMARY:CDD Board Meeting - Jun. 2024
LOCATION:Seven Oaks Clubhouse\, located at 2910 Sports Core Circle\, Wesley
  Chapel\, FL 33544
URL;VALUE=URI:https://www.sevenoakscdd.com/calendar/4641514/cdd-board-meeti
 ng-jun-2024
DTSTART:20240612T220000Z
DTEND:20240612T230000Z
ATTACH;FILENAME=2024-06-12 Seven Oaks CDD - Final Agenda.pdf;FMTTYPE=applic
 ation/pdf:https://campussuite-storage.s3.amazonaws.com/prod/1559071/6f0d3d
 4e-acdb-11eb-8f44-0ab597d206b1/2802066/d80d33de-237b-11ef-9d2a-0a58a9feac0
 2/file/2024-06-12 Seven Oaks CDD - Final Agenda.pdf
END:VEVENT
END:VCALENDAR
